Package: shiny.gosling Version: 1.4.0 Command: /Library/Frameworks/R.framework/Resources/bin/R CMD INSTALL shiny.gosling StartedAt: 2025-04-21 15:04:16 -0400 (Mon, 21 Apr 2025) EndedAt: 2025-04-21 15:04:23 -0400 (Mon, 21 Apr 2025) EllapsedTime: 7.4 seconds RetCode: 0 Status: OK