Package: shiny.gosling Version: 1.4.0 Command: /Library/Frameworks/R.framework/Resources/bin/R CMD check --install=check:shiny.gosling.install-out.txt --library=/Library/Frameworks/R.framework/Resources/library --no-vignettes --timings shiny.gosling_1.4.0.tar.gz StartedAt: 2025-04-21 21:39:33 -0400 (Mon, 21 Apr 2025) EndedAt: 2025-04-21 21:39:48 -0400 (Mon, 21 Apr 2025) EllapsedTime: 15.2 seconds RetCode: 0 Status: OK CheckDir: shiny.gosling.Rcheck Warnings: 0