Package: shiny.gosling Version: 1.4.0 Command: /Library/Frameworks/R.framework/Resources/bin/R CMD build --keep-empty-dirs --no-resave-data shiny.gosling StartedAt: 2025-04-21 17:39:30 -0400 (Mon, 21 Apr 2025) EndedAt: 2025-04-21 17:39:44 -0400 (Mon, 21 Apr 2025) EllapsedTime: 14.2 seconds RetCode: 0 Status: OK PackageFile: shiny.gosling_1.4.0.tar.gz PackageFileSize: 1.715 MiB