Package: shiny.gosling Version: 1.4.0 Command: rm -rf shiny.gosling.buildbin-libdir && mkdir shiny.gosling.buildbin-libdir && /Users/biocbuild/BBS/utils/build-universal.sh shiny.gosling_1.4.0.tar.gz /Library/Frameworks/R.framework/Resources/bin/R shiny.gosling.buildbin-libdir StartedAt: 2025-10-01 20:30:37 -0400 (Wed, 01 Oct 2025) EndedAt: 2025-10-01 20:30:43 -0400 (Wed, 01 Oct 2025) EllapsedTime: 5.7 seconds RetCode: 0 Status: OK PackageFile: shiny.gosling_1.4.0.tgz PackageFileSize: 1.085 MiB