Package: sevenbridges Version: 1.38.0 Command: E:\biocbuild\bbs-3.21-bioc\R\bin\R.exe CMD check --no-multiarch --install=check:sevenbridges.install-out.txt --library=E:\biocbuild\bbs-3.21-bioc\R\library --no-vignettes --timings sevenbridges_1.38.0.tar.gz StartedAt: 2025-08-15 06:53:00 -0400 (Fri, 15 Aug 2025) EndedAt: 2025-08-15 06:56:55 -0400 (Fri, 15 Aug 2025) EllapsedTime: 234.7 seconds RetCode: 0 Status: OK CheckDir: sevenbridges.Rcheck Warnings: 0