Package: sevenbridges Version: 1.38.0 Command: rm -rf sevenbridges.buildbin-libdir && mkdir sevenbridges.buildbin-libdir && E:\biocbuild\bbs-3.21-bioc\R\bin\R.exe CMD INSTALL --build --library=sevenbridges.buildbin-libdir sevenbridges_1.38.0.tar.gz StartedAt: 2025-08-15 10:17:52 -0400 (Fri, 15 Aug 2025) EndedAt: 2025-08-15 10:23:21 -0400 (Fri, 15 Aug 2025) EllapsedTime: 328.7 seconds RetCode: 0 Status: OK PackageFile: sevenbridges_1.38.0.zip PackageFileSize: 5.813 MiB