Package: sevenbridges Version: 1.38.0 Command: /Library/Frameworks/R.framework/Resources/bin/R CMD INSTALL sevenbridges StartedAt: 2025-10-13 15:23:29 -0400 (Mon, 13 Oct 2025) EndedAt: 2025-10-13 15:24:33 -0400 (Mon, 13 Oct 2025) EllapsedTime: 64.5 seconds RetCode: 0 Status: OK