Package: sevenbridges Version: 1.38.0 Command: /Library/Frameworks/R.framework/Resources/bin/R CMD build --keep-empty-dirs --no-resave-data sevenbridges StartedAt: 2025-10-13 22:37:51 -0400 (Mon, 13 Oct 2025) EndedAt: 2025-10-13 22:41:33 -0400 (Mon, 13 Oct 2025) EllapsedTime: 222.1 seconds RetCode: 0 Status: OK PackageFile: sevenbridges_1.38.0.tar.gz PackageFileSize: 4.656 MiB