Package: sevenbridges Version: 1.38.0 Command: rm -rf sevenbridges.buildbin-libdir && mkdir sevenbridges.buildbin-libdir && /Users/biocbuild/BBS/utils/build-universal.sh sevenbridges_1.38.0.tar.gz /Library/Frameworks/R.framework/Resources/bin/R sevenbridges.buildbin-libdir StartedAt: 2025-10-14 14:47:11 -0400 (Tue, 14 Oct 2025) EndedAt: 2025-10-14 14:48:30 -0400 (Tue, 14 Oct 2025) EllapsedTime: 79.2 seconds RetCode: 0 Status: OK PackageFile: sevenbridges_1.38.0.tgz PackageFileSize: 5.776 MiB