Package: sevenbridges Version: 1.38.0 Command: /home/biocbuild/R/R/bin/R CMD build --keep-empty-dirs --no-resave-data sevenbridges StartedAt: 2025-10-14 04:41:09 -0000 (Tue, 14 Oct 2025) EndedAt: 2025-10-14 04:43:30 -0000 (Tue, 14 Oct 2025) EllapsedTime: 141.1 seconds RetCode: 0 Status: OK PackageFile: sevenbridges_1.38.0.tar.gz PackageFileSize: 5.059 MiB