Package: sevenbridges Version: 1.38.0 Command: /Library/Frameworks/R.framework/Resources/bin/R CMD INSTALL sevenbridges StartedAt: 2025-04-21 15:06:57 -0400 (Mon, 21 Apr 2025) EndedAt: 2025-04-21 15:07:06 -0400 (Mon, 21 Apr 2025) EllapsedTime: 9.3 seconds RetCode: 0 Status: OK