Package: sevenbridges Version: 1.38.0 Command: /Library/Frameworks/R.framework/Resources/bin/R CMD INSTALL sevenbridges StartedAt: 2025-10-13 15:36:53 -0400 (Mon, 13 Oct 2025) EndedAt: 2025-10-13 15:37:19 -0400 (Mon, 13 Oct 2025) EllapsedTime: 26.4 seconds RetCode: 0 Status: OK