Package: sevenbridges Version: 1.38.0 Command: /Library/Frameworks/R.framework/Resources/bin/R CMD check --install=check:sevenbridges.install-out.txt --library=/Library/Frameworks/R.framework/Resources/library --no-vignettes --timings sevenbridges_1.38.0.tar.gz StartedAt: 2025-10-15 12:22:12 -0400 (Wed, 15 Oct 2025) EndedAt: 2025-10-15 12:24:55 -0400 (Wed, 15 Oct 2025) EllapsedTime: 163.3 seconds RetCode: 0 Status: OK CheckDir: sevenbridges.Rcheck Warnings: 0