Package: sevenbridges Version: 1.38.0 Command: /Library/Frameworks/R.framework/Resources/bin/R CMD build --keep-empty-dirs --no-resave-data sevenbridges StartedAt: 2025-10-14 09:22:21 -0400 (Tue, 14 Oct 2025) EndedAt: 2025-10-14 09:24:10 -0400 (Tue, 14 Oct 2025) EllapsedTime: 109.0 seconds RetCode: 0 Status: OK PackageFile: sevenbridges_1.38.0.tar.gz PackageFileSize: 4.659 MiB