Package: seqsetvis Version: 1.28.0 Command: rm -rf seqsetvis.buildbin-libdir && mkdir seqsetvis.buildbin-libdir && /Users/biocbuild/BBS/utils/build-universal.sh seqsetvis_1.28.0.tar.gz /Library/Frameworks/R.framework/Resources/bin/R seqsetvis.buildbin-libdir StartedAt: 2025-10-14 14:46:38 -0400 (Tue, 14 Oct 2025) EndedAt: 2025-10-14 14:48:18 -0400 (Tue, 14 Oct 2025) EllapsedTime: 100.4 seconds RetCode: 0 Status: OK PackageFile: seqsetvis_1.28.0.tgz PackageFileSize: 2.407 MiB