Package: seqcombo Version: 1.30.0 Command: /Library/Frameworks/R.framework/Resources/bin/R CMD build --keep-empty-dirs --no-resave-data seqcombo StartedAt: 2025-04-21 17:38:36 -0400 (Mon, 21 Apr 2025) EndedAt: 2025-04-21 17:38:44 -0400 (Mon, 21 Apr 2025) EllapsedTime: 7.1 seconds RetCode: 0 Status: OK PackageFile: seqcombo_1.30.0.tar.gz PackageFileSize: 1.187 MiB