Package: seqTools Version: 1.42.0 Command: rm -rf seqTools.buildbin-libdir && mkdir seqTools.buildbin-libdir && E:\biocbuild\bbs-3.21-bioc\R\bin\R.exe CMD INSTALL --build --library=seqTools.buildbin-libdir seqTools_1.42.0.tar.gz StartedAt: 2025-08-15 10:17:32 -0400 (Fri, 15 Aug 2025) EndedAt: 2025-08-15 10:18:47 -0400 (Fri, 15 Aug 2025) EllapsedTime: 75.5 seconds RetCode: 0 Status: OK PackageFile: seqTools_1.42.0.zip PackageFileSize: 655.3 KiB