Package: seqTools Version: 1.42.0 Command: /home/biocbuild/bbs-3.21-bioc/R/bin/R CMD INSTALL seqTools StartedAt: 2025-10-15 15:10:58 -0400 (Wed, 15 Oct 2025) EndedAt: 2025-10-15 15:11:04 -0400 (Wed, 15 Oct 2025) EllapsedTime: 6.6 seconds RetCode: 0 Status: OK