Package: seqTools Version: 1.42.0 Command: /home/biocbuild/R/R/bin/R CMD INSTALL seqTools StartedAt: 2025-10-13 20:23:09 -0000 (Mon, 13 Oct 2025) EndedAt: 2025-10-13 20:23:17 -0000 (Mon, 13 Oct 2025) EllapsedTime: 8.4 seconds RetCode: 0 Status: OK