Package: seqTools Version: 1.42.0 Command: /Library/Frameworks/R.framework/Resources/bin/R CMD check --install=check:seqTools.install-out.txt --library=/Library/Frameworks/R.framework/Resources/library --no-vignettes --timings seqTools_1.42.0.tar.gz StartedAt: 2025-10-15 12:19:10 -0400 (Wed, 15 Oct 2025) EndedAt: 2025-10-15 12:19:43 -0400 (Wed, 15 Oct 2025) EllapsedTime: 33.7 seconds RetCode: 0 Status: WARNINGS CheckDir: seqTools.Rcheck Warnings: 4