Package: seqCAT Version: 1.30.0 Command: E:\biocbuild\bbs-3.21-bioc\R\bin\R.exe CMD check --no-multiarch --install=check:seqCAT.install-out.txt --library=E:\biocbuild\bbs-3.21-bioc\R\library --no-vignettes --timings seqCAT_1.30.0.tar.gz StartedAt: 2025-08-15 06:50:27 -0400 (Fri, 15 Aug 2025) EndedAt: 2025-08-15 06:57:10 -0400 (Fri, 15 Aug 2025) EllapsedTime: 402.7 seconds RetCode: 0 Status: OK CheckDir: seqCAT.Rcheck Warnings: 0