Package: seqCAT Version: 1.30.0 Command: rm -rf seqCAT.buildbin-libdir && mkdir seqCAT.buildbin-libdir && /Users/biocbuild/BBS/utils/build-universal.sh seqCAT_1.30.0.tar.gz /Library/Frameworks/R.framework/Resources/bin/R seqCAT.buildbin-libdir StartedAt: 2025-10-14 14:46:13 -0400 (Tue, 14 Oct 2025) EndedAt: 2025-10-14 14:47:51 -0400 (Tue, 14 Oct 2025) EllapsedTime: 98.5 seconds RetCode: 0 Status: OK PackageFile: seqCAT_1.30.0.tgz PackageFileSize: 1.959 MiB