Package: seqCAT Version: 1.30.0 Command: /Library/Frameworks/R.framework/Resources/bin/R CMD INSTALL seqCAT StartedAt: 2025-04-21 15:34:27 -0400 (Mon, 21 Apr 2025) EndedAt: 2025-04-21 15:35:19 -0400 (Mon, 21 Apr 2025) EllapsedTime: 52.2 seconds RetCode: 0 Status: OK