Package: seqArchR Version: 1.12.0 Command: chmod a+r seqArchR -R && E:\biocbuild\bbs-3.21-bioc\R\bin\R.exe CMD build --keep-empty-dirs --no-resave-data seqArchR StartedAt: 2025-08-14 22:10:51 -0400 (Thu, 14 Aug 2025) EndedAt: 2025-08-14 22:12:03 -0400 (Thu, 14 Aug 2025) EllapsedTime: 71.8 seconds RetCode: 0 Status: OK PackageFile: seqArchR_1.12.0.tar.gz PackageFileSize: 3.928 MiB