Package: seqArchR Version: 1.12.0 Command: /Library/Frameworks/R.framework/Resources/bin/R CMD build --keep-empty-dirs --no-resave-data seqArchR StartedAt: 2025-10-13 22:35:21 -0400 (Mon, 13 Oct 2025) EndedAt: 2025-10-13 22:36:51 -0400 (Mon, 13 Oct 2025) EllapsedTime: 89.9 seconds RetCode: 0 Status: OK PackageFile: seqArchR_1.12.0.tar.gz PackageFileSize: 4.767 MiB