Package: seqArchR Version: 1.12.0 Command: rm -rf seqArchR.buildbin-libdir && mkdir seqArchR.buildbin-libdir && /Users/biocbuild/BBS/utils/build-universal.sh seqArchR_1.12.0.tar.gz /Library/Frameworks/R.framework/Resources/bin/R seqArchR.buildbin-libdir StartedAt: 2025-10-14 14:45:50 -0400 (Tue, 14 Oct 2025) EndedAt: 2025-10-14 14:46:50 -0400 (Tue, 14 Oct 2025) EllapsedTime: 60.0 seconds RetCode: 0 Status: OK PackageFile: seqArchR_1.12.0.tgz PackageFileSize: 2.319 MiB