Package: seqArchR Version: 1.12.0 Command: /home/biocbuild/R/R/bin/R CMD check --install=check:seqArchR.install-out.txt --library=/home/biocbuild/R/R/site-library --no-vignettes --timings seqArchR_1.12.0.tar.gz StartedAt: 2025-10-14 14:09:27 -0000 (Tue, 14 Oct 2025) EndedAt: 2025-10-14 14:13:03 -0000 (Tue, 14 Oct 2025) EllapsedTime: 215.4 seconds RetCode: 1 Status: ERROR CheckDir: seqArchR.Rcheck Warnings: NA