Package: semisup Version: 1.32.0 Command: /Library/Frameworks/R.framework/Resources/bin/R CMD check --install=check:semisup.install-out.txt --library=/Library/Frameworks/R.framework/Resources/library --no-vignettes --timings semisup_1.32.0.tar.gz StartedAt: 2025-10-15 12:10:35 -0400 (Wed, 15 Oct 2025) EndedAt: 2025-10-15 12:11:18 -0400 (Wed, 15 Oct 2025) EllapsedTime: 42.5 seconds RetCode: 0 Status: OK CheckDir: semisup.Rcheck Warnings: 0