Package: selectKSigs Version: 1.20.0 Command: /Library/Frameworks/R.framework/Resources/bin/R CMD INSTALL selectKSigs StartedAt: 2025-04-21 15:31:53 -0400 (Mon, 21 Apr 2025) EndedAt: 2025-04-21 15:31:58 -0400 (Mon, 21 Apr 2025) EllapsedTime: 5.1 seconds RetCode: 0 Status: OK