Package: sechm Version: 1.16.0 Command: /home/biocbuild/bbs-3.21-bioc/R/bin/R CMD check --install=check:sechm.install-out.txt --library=/home/biocbuild/bbs-3.21-bioc/R/site-library --timings sechm_1.16.0.tar.gz StartedAt: 2025-09-29 03:31:10 -0400 (Mon, 29 Sep 2025) EndedAt: 2025-09-29 03:34:45 -0400 (Mon, 29 Sep 2025) EllapsedTime: 215.3 seconds RetCode: 0 Status: OK CheckDir: sechm.Rcheck Warnings: 0