Package: sechm Version: 1.16.0 Command: /Library/Frameworks/R.framework/Resources/bin/R CMD check --install=check:sechm.install-out.txt --library=/Library/Frameworks/R.framework/Resources/library --no-vignettes --timings sechm_1.16.0.tar.gz StartedAt: 2025-10-15 12:06:28 -0400 (Wed, 15 Oct 2025) EndedAt: 2025-10-15 12:09:50 -0400 (Wed, 15 Oct 2025) EllapsedTime: 202.6 seconds RetCode: 0 Status: OK CheckDir: sechm.Rcheck Warnings: 0