Package: scviR Version: 1.8.0 Command: /Library/Frameworks/R.framework/Resources/bin/R CMD build --keep-empty-dirs --no-resave-data scviR StartedAt: 2025-04-21 17:37:29 -0400 (Mon, 21 Apr 2025) EndedAt: 2025-04-21 17:38:22 -0400 (Mon, 21 Apr 2025) EllapsedTime: 53.6 seconds RetCode: 0 Status: OK PackageFile: scviR_1.8.0.tar.gz PackageFileSize: 3.729 MiB