Package: scruff Version: 1.26.1 Command: /Library/Frameworks/R.framework/Resources/bin/R CMD build --keep-empty-dirs --no-resave-data scruff StartedAt: 2025-10-13 22:29:50 -0400 (Mon, 13 Oct 2025) EndedAt: 2025-10-13 22:34:23 -0400 (Mon, 13 Oct 2025) EllapsedTime: 273.4 seconds RetCode: 0 Status: OK PackageFile: scruff_1.26.1.tar.gz PackageFileSize: 1.712 MiB