Package: scruff Version: 1.26.1 Command: /home/biocbuild/R/R/bin/R CMD INSTALL scruff StartedAt: 2025-10-13 21:09:07 -0000 (Mon, 13 Oct 2025) EndedAt: 2025-10-13 21:10:29 -0000 (Mon, 13 Oct 2025) EllapsedTime: 82.7 seconds RetCode: 0 Status: OK