Package: scruff Version: 1.26.1 Command: /home/biocbuild/R/R/bin/R CMD check --install=check:scruff.install-out.txt --library=/home/biocbuild/R/R/site-library --no-vignettes --timings scruff_1.26.1.tar.gz StartedAt: 2025-10-14 14:03:37 -0000 (Tue, 14 Oct 2025) EndedAt: 2025-10-14 14:14:12 -0000 (Tue, 14 Oct 2025) EllapsedTime: 635.0 seconds RetCode: 0 Status: OK CheckDir: scruff.Rcheck Warnings: 0