Package: scruff Version: 1.26.1 Command: /home/biocbuild/R/R/bin/R CMD build --keep-empty-dirs --no-resave-data scruff StartedAt: 2025-10-14 04:33:50 -0000 (Tue, 14 Oct 2025) EndedAt: 2025-10-14 04:36:38 -0000 (Tue, 14 Oct 2025) EllapsedTime: 168.1 seconds RetCode: 0 Status: OK PackageFile: scruff_1.26.1.tar.gz PackageFileSize: 1.601 MiB