Package: scoup Version: 1.2.0 Command: /home/biocbuild/bbs-3.21-bioc/R/bin/R CMD check --install=check:scoup.install-out.txt --library=/home/biocbuild/bbs-3.21-bioc/R/site-library --timings scoup_1.2.0.tar.gz StartedAt: 2025-10-16 03:22:49 -0400 (Thu, 16 Oct 2025) EndedAt: 2025-10-16 03:25:26 -0400 (Thu, 16 Oct 2025) EllapsedTime: 157.2 seconds RetCode: 0 Status: OK CheckDir: scoup.Rcheck Warnings: 0