Package: scoup Version: 1.2.0 Command: /Library/Frameworks/R.framework/Resources/bin/R CMD build --keep-empty-dirs --no-resave-data scoup StartedAt: 2025-10-13 22:26:04 -0400 (Mon, 13 Oct 2025) EndedAt: 2025-10-13 22:27:09 -0400 (Mon, 13 Oct 2025) EllapsedTime: 64.9 seconds RetCode: 0 Status: OK PackageFile: scoup_1.2.0.tar.gz PackageFileSize: 334.2 KiB