Package: scoup Version: 1.2.0 Command: /home/biocbuild/R/R/bin/R CMD check --install=check:scoup.install-out.txt --library=/home/biocbuild/R/R/site-library --no-vignettes --timings scoup_1.2.0.tar.gz StartedAt: 2025-10-14 13:59:29 -0000 (Tue, 14 Oct 2025) EndedAt: 2025-10-14 14:03:37 -0000 (Tue, 14 Oct 2025) EllapsedTime: 247.3 seconds RetCode: 0 Status: OK CheckDir: scoup.Rcheck Warnings: 0