Package: scone Version: 1.32.1 Command: /Library/Frameworks/R.framework/Resources/bin/R CMD INSTALL scone StartedAt: 2025-10-13 16:36:30 -0400 (Mon, 13 Oct 2025) EndedAt: 2025-10-13 16:38:23 -0400 (Mon, 13 Oct 2025) EllapsedTime: 113.3 seconds RetCode: 0 Status: OK