Package: scone Version: 1.32.1 Command: /Library/Frameworks/R.framework/Resources/bin/R CMD build --keep-empty-dirs --no-resave-data scone StartedAt: 2025-10-13 22:25:17 -0400 (Mon, 13 Oct 2025) EndedAt: 2025-10-13 22:31:19 -0400 (Mon, 13 Oct 2025) EllapsedTime: 362.1 seconds RetCode: 0 Status: OK PackageFile: scone_1.32.1.tar.gz PackageFileSize: 1.859 MiB