Package: scone Version: 1.32.0 Command: rm -rf scone.buildbin-libdir && mkdir scone.buildbin-libdir && /Users/biocbuild/BBS/utils/build-universal.sh scone_1.32.0.tar.gz /Library/Frameworks/R.framework/Resources/bin/R scone.buildbin-libdir StartedAt: 2025-04-22 01:07:47 -0400 (Tue, 22 Apr 2025) EndedAt: 2025-04-22 01:09:02 -0400 (Tue, 22 Apr 2025) EllapsedTime: 75.2 seconds RetCode: 0 Status: OK PackageFile: scone_1.32.0.tgz PackageFileSize: 2.079 MiB