Package: scmeth Version: 1.28.0 Command: /home/biocbuild/bbs-3.21-bioc/R/bin/R CMD build --keep-empty-dirs --no-resave-data scmeth StartedAt: 2025-10-15 19:45:12 -0400 (Wed, 15 Oct 2025) EndedAt: 2025-10-15 19:46:40 -0400 (Wed, 15 Oct 2025) EllapsedTime: 88.1 seconds RetCode: 0 Status: OK PackageFile: scmeth_1.28.0.tar.gz PackageFileSize: 769.3 KiB