Package: scmeth Version: 1.28.0 Command: /home/biocbuild/R/R/bin/R CMD check --install=check:scmeth.install-out.txt --library=/home/biocbuild/R/R/site-library --no-vignettes --timings scmeth_1.28.0.tar.gz StartedAt: 2025-10-14 13:56:24 -0000 (Tue, 14 Oct 2025) EndedAt: 2025-10-14 14:06:52 -0000 (Tue, 14 Oct 2025) EllapsedTime: 627.9 seconds RetCode: 0 Status: OK CheckDir: scmeth.Rcheck Warnings: 0