Package: scmeth Version: 1.28.0 Command: /Library/Frameworks/R.framework/Resources/bin/R CMD check --install=check:scmeth.install-out.txt --library=/Library/Frameworks/R.framework/Resources/library --no-vignettes --timings scmeth_1.28.0.tar.gz StartedAt: 2025-10-15 11:33:35 -0400 (Wed, 15 Oct 2025) EndedAt: 2025-10-15 11:41:28 -0400 (Wed, 15 Oct 2025) EllapsedTime: 472.6 seconds RetCode: 0 Status: OK CheckDir: scmeth.Rcheck Warnings: 0