Package: scmap Version: 1.30.0 Command: /home/biocbuild/bbs-3.21-bioc/R/bin/R CMD INSTALL scmap StartedAt: 2025-10-01 15:35:17 -0400 (Wed, 01 Oct 2025) EndedAt: 2025-10-01 15:35:56 -0400 (Wed, 01 Oct 2025) EllapsedTime: 39.5 seconds RetCode: 0 Status: OK