Package: scmap Version: 1.30.0 Command: /home/biocbuild/bbs-3.21-bioc/R/bin/R CMD check --install=check:scmap.install-out.txt --library=/home/biocbuild/bbs-3.21-bioc/R/site-library --timings scmap_1.30.0.tar.gz StartedAt: 2025-10-02 03:15:19 -0400 (Thu, 02 Oct 2025) EndedAt: 2025-10-02 03:18:36 -0400 (Thu, 02 Oct 2025) EllapsedTime: 197.2 seconds RetCode: 0 Status: OK CheckDir: scmap.Rcheck Warnings: 0