Package: scifer Version: 1.10.0 Command: /Library/Frameworks/R.framework/Resources/bin/R CMD build --keep-empty-dirs --no-resave-data scifer StartedAt: 2025-10-13 22:22:48 -0400 (Mon, 13 Oct 2025) EndedAt: 2025-10-13 22:30:07 -0400 (Mon, 13 Oct 2025) EllapsedTime: 439.4 seconds RetCode: 0 Status: OK PackageFile: scifer_1.10.0.tar.gz PackageFileSize: 1.527 MiB