Package: scider Version: 1.6.0 Command: /Library/Frameworks/R.framework/Resources/bin/R CMD INSTALL scider StartedAt: 2025-10-13 15:36:47 -0400 (Mon, 13 Oct 2025) EndedAt: 2025-10-13 15:37:48 -0400 (Mon, 13 Oct 2025) EllapsedTime: 61.7 seconds RetCode: 0 Status: OK