Package: scider Version: 1.6.0 Command: /Library/Frameworks/R.framework/Resources/bin/R CMD check --install=check:scider.install-out.txt --library=/Library/Frameworks/R.framework/Resources/library --no-vignettes --timings scider_1.6.0.tar.gz StartedAt: 2025-10-14 09:56:56 -0400 (Tue, 14 Oct 2025) EndedAt: 2025-10-14 10:11:45 -0400 (Tue, 14 Oct 2025) EllapsedTime: 888.7 seconds RetCode: 0 Status: OK CheckDir: scider.Rcheck Warnings: 0